BEGIN:VCALENDAR
VERSION:2.0
PRODID:-//The Prindle Institute for Ethics - ECPv6.15.18//NONSGML v1.0//EN
CALSCALE:GREGORIAN
METHOD:PUBLISH
X-ORIGINAL-URL:https://www.prindleinstitute.org
X-WR-CALDESC:Events for The Prindle Institute for Ethics
REFRESH-INTERVAL;VALUE=DURATION:PT1H
X-Robots-Tag:noindex
X-PUBLISHED-TTL:PT1H
BEGIN:VTIMEZONE
TZID:America/New_York
BEGIN:DAYLIGHT
TZOFFSETFROM:-0500
TZOFFSETTO:-0400
TZNAME:EDT
DTSTART:20250309T070000
END:DAYLIGHT
BEGIN:STANDARD
TZOFFSETFROM:-0400
TZOFFSETTO:-0500
TZNAME:EST
DTSTART:20251102T060000
END:STANDARD
BEGIN:DAYLIGHT
TZOFFSETFROM:-0500
TZOFFSETTO:-0400
TZNAME:EDT
DTSTART:20260308T070000
END:DAYLIGHT
BEGIN:STANDARD
TZOFFSETFROM:-0400
TZOFFSETTO:-0500
TZNAME:EST
DTSTART:20261101T060000
END:STANDARD
BEGIN:DAYLIGHT
TZOFFSETFROM:-0500
TZOFFSETTO:-0400
TZNAME:EDT
DTSTART:20270314T070000
END:DAYLIGHT
BEGIN:STANDARD
TZOFFSETFROM:-0400
TZOFFSETTO:-0500
TZNAME:EST
DTSTART:20271107T060000
END:STANDARD
END:VTIMEZONE
BEGIN:VEVENT
DTSTART;TZID=America/New_York:20260506T140000
DTEND;TZID=America/New_York:20260506T153000
DTSTAMP:20260425T064319
CREATED:20260423T172408Z
LAST-MODIFIED:20260423T172508Z
UID:19838-1778076000-1778081400@www.prindleinstitute.org
SUMMARY:Alumni Panel: Advancing the Common Good—Voices from Law\, Public Service\, and Policy
DESCRIPTION:
URL:https://www.prindleinstitute.org/event/alumni-good-26/
LOCATION:Thompson Recital Hall (GCPA)\, DePauw University\, 600 S Locust Street\, Greencastle\, IN\, 46135\, United States
ORGANIZER;CN="The Janet Prindle Institute for Ethics":MAILTO:prindleinstitute@depauw.edu
END:VEVENT
BEGIN:VEVENT
DTSTART;VALUE=DATE:20260603
DTEND;VALUE=DATE:20260606
DTSTAMP:20260425T064319
CREATED:20260316T135358Z
LAST-MODIFIED:20260316T135358Z
UID:19791-1780444800-1780703999@www.prindleinstitute.org
SUMMARY:2026 High School Educator Retreat
DESCRIPTION:
URL:https://www.prindleinstitute.org/event/retreat-26/
LOCATION:IN
ORGANIZER;CN="The Janet Prindle Institute for Ethics":MAILTO:prindleinstitute@depauw.edu
END:VEVENT
END:VCALENDAR